0.250000
0.000000
0.000000
-0.250000
678489.981006
4754029.886963
