0.250000
0.000000
0.000000
-0.250000
556189.981006
4735679.886963
