0.250000
0.000000
0.000000
-0.250000
563029.981006
4733429.886963
