0.250000
0.000000
0.000000
-0.250000
552829.981006
4728709.886963
