0.250000
0.000000
0.000000
-0.250000
559679.981006
4726459.886963
