0.250000
0.000000
0.000000
-0.250000
563089.981006
4726489.886963
