0.250000
0.000000
0.000000
-0.250000
566349.981006
4742719.886963
