0.250000
0.000000
0.000000
-0.250000
579969.981006
4742869.886963
