0.250000
0.000000
0.000000
-0.250000
590189.981006
4742999.886963
