0.250000
0.000000
0.000000
-0.250000
569779.981006
4740439.886963
