0.250000
0.000000
0.000000
-0.250000
573179.981006
4740469.886963
