0.250000
0.000000
0.000000
-0.250000
583429.981006
4738279.886963
