0.250000
0.000000
0.000000
-0.250000
590249.981006
4738369.886963
