0.250000
0.000000
0.000000
-0.250000
573229.981006
4735849.886963
