0.250000
0.000000
0.000000
-0.250000
566439.981006
4733459.886963
