0.250000
0.000000
0.000000
-0.250000
569849.981006
4733499.886963
