0.250000
0.000000
0.000000
-0.250000
566459.981006
4731149.886963
