0.250000
0.000000
0.000000
-0.250000
580109.981006
4731299.886963
