0.250000
0.000000
0.000000
-0.250000
590339.981006
4731429.886963
