0.250000
0.000000
0.000000
-0.250000
580159.981006
4726669.886963
