0.250000
0.000000
0.000000
-0.250000
583569.981006
4726719.886963
