0.250000
0.000000
0.000000
-0.250000
603809.981006
4743199.886963
