0.250000
0.000000
0.000000
-0.250000
610619.981006
4743309.886963
