0.250000
0.000000
0.000000
-0.250000
614019.981006
4743359.886963
