0.250000
0.000000
0.000000
-0.250000
600439.981006
4740829.886963
