0.250000
0.000000
0.000000
-0.250000
603839.981006
4740879.886963
