0.250000
0.000000
0.000000
-0.250000
617469.981006
4741109.886963
