0.250000
0.000000
0.000000
-0.250000
593659.981006
4738419.886963
