0.250000
0.000000
0.000000
-0.250000
607289.981006
4738619.886963
