0.250000
0.000000
0.000000
-0.250000
617509.981006
4738799.886963
