0.250000
0.000000
0.000000
-0.250000
593689.981006
4736109.886963
