0.250000
0.000000
0.000000
-0.250000
593719.981006
4733789.886963
