0.250000
0.000000
0.000000
-0.250000
607359.981006
4733999.886963
