0.250000
0.000000
0.000000
-0.250000
617589.981006
4734169.886963
