0.250000
0.000000
0.000000
-0.250000
597159.981006
4731529.886963
