0.250000
0.000000
0.000000
-0.250000
607389.981006
4731679.886963
