0.250000
0.000000
0.000000
-0.250000
607469.981006
4727059.886963
