0.250000
0.000000
0.000000
-0.250000
631049.981006
4743679.886963
