0.250000
0.000000
0.000000
-0.250000
644669.981006
4743959.886963
