0.250000
0.000000
0.000000
-0.250000
637909.981006
4741499.886963
