0.250000
0.000000
0.000000
-0.250000
631139.981006
4739049.886963
