0.250000
0.000000
0.000000
-0.250000
624369.981006
4736609.886963
