0.250000
0.000000
0.000000
-0.250000
620999.981006
4734229.886963
