0.250000
0.000000
0.000000
-0.250000
641459.981006
4734629.886963
