0.250000
0.000000
0.000000
-0.250000
631269.981006
4732109.886963
