0.250000
0.000000
0.000000
-0.250000
624489.981006
4729669.886963
