0.250000
0.000000
0.000000
-0.250000
634729.981006
4729859.886963
