0.250000
0.000000
0.000000
-0.250000
641549.981006
4729999.886963
