0.250000
0.000000
0.000000
-0.250000
624529.981006
4727349.886963
