0.250000
0.000000
0.000000
-0.250000
627949.981006
4727419.886963
